BEGIN:VCALENDAR
VERSION:2.0
PRODID:-//Spriggly&#039;s Beescaping - ECPv6.3.5//NONSGML v1.0//EN
CALSCALE:GREGORIAN
METHOD:PUBLISH
X-ORIGINAL-URL:https://sprigglys.com
X-WR-CALDESC:Events for Spriggly&#039;s Beescaping
REFRESH-INTERVAL;VALUE=DURATION:PT1H
X-Robots-Tag:noindex
X-PUBLISHED-TTL:PT1H
BEGIN:VTIMEZONE
TZID:UTC
BEGIN:STANDARD
TZOFFSETFROM:+0000
TZOFFSETTO:+0000
TZNAME:UTC
DTSTART:20250101T000000
END:STANDARD
END:VTIMEZONE
BEGIN:VEVENT
DTSTART;VALUE=DATE:20250112
DTEND;VALUE=DATE:20260701
DTSTAMP:20260423T100310
CREATED:20240424T125329Z
LAST-MODIFIED:20250112T201219Z
UID:3025-1736640000-1782863999@sprigglys.com
SUMMARY:Ongoing Educational Opportunities
DESCRIPTION:This list shows all public events. Please note that we have many more public events scheduled from July-December. More information will be added soon. Stay tuned!  \nWe also offer private events for garden clubs\, neighborhoods\, and more that are not open to the public or listed on this calendar. Please learn more about scheduling Spriggly’s for an event.  \nCan’t attend our events in person or looking for something different? Please check out our on-demand\, online course series\, Gardening for the Planet. This masterclass style experience offers simple steps to become stewards of the environment through a series of online courses. From pollinators\, to predators\, to removing pesticides\, enjoy 15+ hours of engaging video content and become an expert on supporting your local ecosystems. Each course has takeaway notes and information documents for download\, an optional quiz to test your knowledge\, and a certificate of completion. Purchase lifetime access and access the content again and again. Learn more!
URL:https://sprigglys.com/event/ongoing-educational-opportunities/
LOCATION:NC
ATTACH;FMTTYPE=image/jpeg:https://sprigglys.com/wp-content/uploads/2021/06/bumblebees-e1622986622220.jpeg
ORGANIZER;CN="Spriggly's Beescapig":MAILTO:info@sprigglys.com
END:VEVENT
BEGIN:VEVENT
DTSTART;TZID=UTC:20250705T090000
DTEND;TZID=UTC:20250705T090000
DTSTAMP:20260423T100310
CREATED:20250701T150444Z
LAST-MODIFIED:20250708T174115Z
UID:3244-1751706000-1751706000@sprigglys.com
SUMMARY:Planting and Protecting Pollinators with Wildlife in Mind
DESCRIPTION:Join Brannen and Jill of Spriggly’s Beescaping for a thoughtful\, practical workshop on designing gardens that support the creatures who share our spaces. You’ll learn how to plant with intention\, using native species and smart strategies to invite pollinators\, birds\, and beneficial insects into your landscape—while keeping pests\, predators\, and plant damage in check. \nWe’ll talk about real-world solutions for common gardening challenges: deer pressure\, powdery mildew\, pesticide risks\, and more. Whether you’re starting fresh or looking to fine-tune an established garden\, this class will leave you with the knowledge (and the plant list) to create a space that welcomes wildlife without losing your harvest or your sanity. \nPerfect for gardeners of all levels. Learn to create wild-life friendly gardens. Come curious\, leave empowered. Sliding scale tickets available\, $5-$30. Register at the link below.
URL:https://sprigglys.com/event/planting-and-protecting-pollinators-with-wildlife-in-mind/
LOCATION:Winding Stair Farm\, 57 Saunders Road\, Franklin\,\, NC\, 28734\, United States
ATTACH;FMTTYPE=image/jpeg:https://sprigglys.com/wp-content/uploads/2022/02/Wasp-nature-education.jpg
END:VEVENT
BEGIN:VEVENT
DTSTART;TZID=UTC:20250717T080000
DTEND;TZID=UTC:20250717T160000
DTSTAMP:20260423T100310
CREATED:20250618T134522Z
LAST-MODIFIED:20250618T134522Z
UID:3236-1752739200-1752768000@sprigglys.com
SUMMARY:Cullowhee Native Plant Conference Presentation
DESCRIPTION:Entering their third year of participation\, Spriggly’s will present their full day course\, “Gardening for the Planet” for the Cullowhee Native Plant Conference at Western Carolina University. This full day course is a shortened version of their 16+ hour online course series. Registration for the conference and this course has already ended. However\, please check out the online version of Gardening for the Planet to receive an even deeper educational experience.
URL:https://sprigglys.com/event/cullowhee-native-plant-conference-presentation/
LOCATION:NC
ATTACH;FMTTYPE=image/jpeg:https://sprigglys.com/wp-content/uploads/2022/02/Wasp-nature-education.jpg
END:VEVENT
BEGIN:VEVENT
DTSTART;TZID=UTC:20250726T090000
DTEND;TZID=UTC:20250726T090000
DTSTAMP:20260423T100310
CREATED:20250708T174101Z
LAST-MODIFIED:20250708T174144Z
UID:3246-1753520400-1753520400@sprigglys.com
SUMMARY:Planting and Protecting Pollinators with Wildlife in Mind
DESCRIPTION:Join Brannen and Jill of Spriggly’s Beescaping for a thoughtful\, practical workshop on designing gardens that support the creatures who share our spaces. You’ll learn how to plant with intention\, using native species and smart strategies to invite pollinators\, birds\, and beneficial insects into your landscape—while keeping pests\, predators\, and plant damage in check. \nWe’ll talk about real-world solutions for common gardening challenges: deer pressure\, powdery mildew\, pesticide risks\, and more. Whether you’re starting fresh or looking to fine-tune an established garden\, this class will leave you with the knowledge (and the plant list) to create a space that welcomes wildlife without losing your harvest or your sanity. \nPerfect for gardeners of all levels. Learn to create wild-life friendly gardens. Come curious\, leave empowered. Sliding scale tickets available\, $5-$30. Register at the link below.
URL:https://sprigglys.com/event/planting-and-protecting-pollinators-with-wildlife-in-mind-2/
LOCATION:Winding Stair Farm\, 57 Saunders Road\, Franklin\,\, NC\, 28734\, United States
ATTACH;FMTTYPE=image/jpeg:https://sprigglys.com/wp-content/uploads/2022/02/milkweed.jpg
END:VEVENT
END:VCALENDAR