BEGIN:VCALENDAR
VERSION:2.0
PRODID:-//Spriggly&#039;s Beescaping - ECPv6.3.5//NONSGML v1.0//EN
CALSCALE:GREGORIAN
METHOD:PUBLISH
X-WR-CALNAME:Spriggly&#039;s Beescaping
X-ORIGINAL-URL:https://sprigglys.com
X-WR-CALDESC:Events for Spriggly&#039;s Beescaping
REFRESH-INTERVAL;VALUE=DURATION:PT1H
X-Robots-Tag:noindex
X-PUBLISHED-TTL:PT1H
BEGIN:VTIMEZONE
TZID:UTC
BEGIN:STANDARD
TZOFFSETFROM:+0000
TZOFFSETTO:+0000
TZNAME:UTC
DTSTART:20240101T000000
END:STANDARD
END:VTIMEZONE
BEGIN:VEVENT
DTSTART;TZID=UTC:20240213T140000
DTEND;TZID=UTC:20240213T150000
DTSTAMP:20260419T141937
CREATED:20240207T212034Z
LAST-MODIFIED:20240209T194123Z
UID:2874-1707832800-1707836400@sprigglys.com
SUMMARY:Saluda Library Speaker Series | Native Pollinators and the Habitats They Require
DESCRIPTION:Course Details\nThis course explores the beneficial creatures in your backyard through an exploration of the habitats needed to help pollinators survive and thrive. This talk\, which is scheduled for 2 p.m. on Tuesday\, February 13\, at the Saluda Library\, will take a deep dive into the life cycles of native bees\, butterflies\, moths\, beetles\, wasps\, birds\, and more. Participants will learn how to care for your space throughout the year to support the widest diversity of creatures. \nThis event is free and does not require pre-registration.  \nHost and Contact Details: \nThe Saluda Library Speaker Series is made possible thanks to our partnership with Conserving Carolina\, and a generous Free Community Events grant from Polk County Community Foundation. \nContact Pam Torlina at pam@conservingcarolina.org for more information.
URL:https://sprigglys.com/event/saluda-library-speaker-series-native-pollinators-and-the-habitats-they-require/
LOCATION:Saluda Library\, 44 W. Main St.\, Saluda\, NC\, 28773\, United States
ATTACH;FMTTYPE=image/jpeg:https://sprigglys.com/wp-content/uploads/2024/02/sunflower-3524710_640-e1707499438438.jpeg
END:VEVENT
END:VCALENDAR