BEGIN:VCALENDAR
VERSION:2.0
PRODID:-//Spriggly&#039;s Beescaping - ECPv6.3.5//NONSGML v1.0//EN
CALSCALE:GREGORIAN
METHOD:PUBLISH
X-WR-CALNAME:Spriggly&#039;s Beescaping
X-ORIGINAL-URL:https://sprigglys.com
X-WR-CALDESC:Events for Spriggly&#039;s Beescaping
REFRESH-INTERVAL;VALUE=DURATION:PT1H
X-Robots-Tag:noindex
X-PUBLISHED-TTL:PT1H
BEGIN:VTIMEZONE
TZID:UTC
BEGIN:STANDARD
TZOFFSETFROM:+0000
TZOFFSETTO:+0000
TZNAME:UTC
DTSTART:20250101T000000
END:STANDARD
END:VTIMEZONE
BEGIN:VEVENT
DTSTART;VALUE=DATE:20250112
DTEND;VALUE=DATE:20260701
DTSTAMP:20260423T110643
CREATED:20240424T125329Z
LAST-MODIFIED:20250112T201219Z
UID:3025-1736640000-1782863999@sprigglys.com
SUMMARY:Ongoing Educational Opportunities
DESCRIPTION:This list shows all public events. Please note that we have many more public events scheduled from July-December. More information will be added soon. Stay tuned!  \nWe also offer private events for garden clubs\, neighborhoods\, and more that are not open to the public or listed on this calendar. Please learn more about scheduling Spriggly’s for an event.  \nCan’t attend our events in person or looking for something different? Please check out our on-demand\, online course series\, Gardening for the Planet. This masterclass style experience offers simple steps to become stewards of the environment through a series of online courses. From pollinators\, to predators\, to removing pesticides\, enjoy 15+ hours of engaging video content and become an expert on supporting your local ecosystems. Each course has takeaway notes and information documents for download\, an optional quiz to test your knowledge\, and a certificate of completion. Purchase lifetime access and access the content again and again. Learn more!
URL:https://sprigglys.com/event/ongoing-educational-opportunities/
LOCATION:NC
ATTACH;FMTTYPE=image/jpeg:https://sprigglys.com/wp-content/uploads/2021/06/bumblebees-e1622986622220.jpeg
ORGANIZER;CN="Spriggly's Beescapig":MAILTO:info@sprigglys.com
END:VEVENT
BEGIN:VEVENT
DTSTART;TZID=UTC:20250624T150000
DTEND;TZID=UTC:20250624T160000
DTSTAMP:20260423T110643
CREATED:20250617T003738Z
LAST-MODIFIED:20250617T003959Z
UID:3231-1750777200-1750780800@sprigglys.com
SUMMARY:Pollinator Week Workshop for Kid's with Spriggly's Beescaping
DESCRIPTION:Local authors and educators\, Spriggly’s Beescaping\, will read their children’s book Finding Home: A Story of a Mason Bee. Followed by a fun and educational talk\, movement activities\, a sing-a-long\, and an art project!  \nThis program is being presented by the Mariana Black Library at 33 Fryemont St\, Bryson City\, NC 28713 on June 24th at 3PM. Please register by Monday\, June 23rd by calling 828-488-3030. This event will be held in the Marianna Black Library Meeting Room.
URL:https://sprigglys.com/event/pollinator-week-workshop-for-kids-with-sprigglys-beescaping/
LOCATION:NC
ATTACH;FMTTYPE=image/jpeg:https://sprigglys.com/wp-content/uploads/2023/03/finding-home-inside-.jpg
END:VEVENT
END:VCALENDAR