BEGIN:VCALENDAR
VERSION:2.0
PRODID:-//Spriggly&#039;s Beescaping - ECPv6.3.5//NONSGML v1.0//EN
CALSCALE:GREGORIAN
METHOD:PUBLISH
X-ORIGINAL-URL:https://sprigglys.com
X-WR-CALDESC:Events for Spriggly&#039;s Beescaping
REFRESH-INTERVAL;VALUE=DURATION:PT1H
X-Robots-Tag:noindex
X-PUBLISHED-TTL:PT1H
BEGIN:VTIMEZONE
TZID:UTC
BEGIN:STANDARD
TZOFFSETFROM:+0000
TZOFFSETTO:+0000
TZNAME:UTC
DTSTART:20240101T000000
END:STANDARD
END:VTIMEZONE
BEGIN:VEVENT
DTSTART;TZID=UTC:20240421T150000
DTEND;TZID=UTC:20240421T163000
DTSTAMP:20260422T095006
CREATED:20240412T123314Z
LAST-MODIFIED:20240412T123314Z
UID:3009-1713711600-1713717000@sprigglys.com
SUMMARY:Planting for Pollinators Garden Party
DESCRIPTION:Creating a pollinator garden requires more than just planting flowers\, although those are a great start! Learn how to create a pollinator garden that provides forage and habitat year round for a variety of pollinators\, along with other beneficial insects and animals. Discover which Integrated Pest Management practices can be applied to your pollinator garden that remove the need for pesticides\, including herbicides and fungicides. Learn this content on a special indoor/outdoor presentation that will explore updates to be made to the existing gardens at the Congregational Church of Tryon.
URL:https://sprigglys.com/event/planting-for-pollinators-garden-party/
LOCATION:Congregational Church of Tryon\, 210 Melrose Ave\, Tryon\, NC\, 28786\, United States
ATTACH;FMTTYPE=image/jpeg:https://sprigglys.com/wp-content/uploads/2022/02/Habitat-restoration-home-screen.jpg
END:VEVENT
END:VCALENDAR