BEGIN:VCALENDAR
VERSION:2.0
PRODID:-//Spriggly&#039;s Beescaping - ECPv6.3.5//NONSGML v1.0//EN
CALSCALE:GREGORIAN
METHOD:PUBLISH
X-WR-CALNAME:Spriggly&#039;s Beescaping
X-ORIGINAL-URL:https://sprigglys.com
X-WR-CALDESC:Events for Spriggly&#039;s Beescaping
REFRESH-INTERVAL;VALUE=DURATION:PT1H
X-Robots-Tag:noindex
X-PUBLISHED-TTL:PT1H
BEGIN:VTIMEZONE
TZID:UTC
BEGIN:STANDARD
TZOFFSETFROM:+0000
TZOFFSETTO:+0000
TZNAME:UTC
DTSTART:20240101T000000
END:STANDARD
END:VTIMEZONE
BEGIN:VEVENT
DTSTART;TZID=UTC:20240420T100000
DTEND;TZID=UTC:20240420T123000
DTSTAMP:20260422T032042
CREATED:20240412T121746Z
LAST-MODIFIED:20240412T121746Z
UID:3007-1713607200-1713616200@sprigglys.com
SUMMARY:Rain Gardens & Drainage Solutions
DESCRIPTION:Explore common drainage problems found in and around gardens and yards. Review multiple techniques to slow\, control\, and minimize stormwater runoff\, such as catch basins\, french drains\, and rain gardens. Learn which native plants are the best to deal with water issues and discover how your rain garden can double as a pollinator garden.
URL:https://sprigglys.com/event/rain-gardens-drainage-solutions/
LOCATION:NC
ATTACH;FMTTYPE=image/jpeg:https://sprigglys.com/wp-content/uploads/2023/03/Haywood-Arts-Council-Back-Space_016-e1678824718642.jpg
END:VEVENT
END:VCALENDAR