BEGIN:VCALENDAR
VERSION:2.0
PRODID:-//Spriggly&#039;s Beescaping - ECPv6.3.5//NONSGML v1.0//EN
CALSCALE:GREGORIAN
METHOD:PUBLISH
X-WR-CALNAME:Spriggly&#039;s Beescaping
X-ORIGINAL-URL:https://sprigglys.com
X-WR-CALDESC:Events for Spriggly&#039;s Beescaping
REFRESH-INTERVAL;VALUE=DURATION:PT1H
X-Robots-Tag:noindex
X-PUBLISHED-TTL:PT1H
BEGIN:VTIMEZONE
TZID:UTC
BEGIN:STANDARD
TZOFFSETFROM:+0000
TZOFFSETTO:+0000
TZNAME:UTC
DTSTART:20240101T000000
END:STANDARD
END:VTIMEZONE
BEGIN:VEVENT
DTSTART;TZID=UTC:20240418T173000
DTEND;TZID=UTC:20240418T203000
DTSTAMP:20260421T175900
CREATED:20240402T210212Z
LAST-MODIFIED:20240402T210352Z
UID:2983-1713461400-1713472200@sprigglys.com
SUMMARY:Laurel Park Bee City Presentation | Presentation & Movie
DESCRIPTION:This program is brought to you by the Bee City Committee of Laurel Park. The committee\, guided by the Xerces Society\, recognizes\, supports and encourages pollinator conservation. Join us for the two-part presentation. \nPart 1\n“Queen of the Sun” is an alternative look at the global bee crisis. The film explores a catastrophic disappearance of bees and the mysterious world of the beehive. It reveals the solutions in renewing a culture in balance with nature. \nPart 2\nBrannen Basham and Jill Jacobs are owners of Spriggly’s Beescaping. In this presentation\, learn about the almost 4\,000 species of bees native to North America and approaches you can use in everyday gardening that make a huge difference to the bees. \nDoors open at 5:30 PM and full Cinema menu will be available for purchase. \nTo register\, please email Laurel Park Town Clerk Tamara Amin (tamin@laurelpark.org). \nThis event is sponsored by Wild Birds Unlimited of Hendersonville.
URL:https://sprigglys.com/event/laurel-park-bee-city-presentation-presentation-movie/
LOCATION:Flat Rock Cinema\, 2700-D Greenville Hwy\, Flat Rock\, NC\, 28731\, United States
ATTACH;FMTTYPE=image/jpeg:https://sprigglys.com/wp-content/uploads/2024/04/mason-bee-small.jpg
END:VEVENT
END:VCALENDAR