BEGIN:VCALENDAR
VERSION:2.0
PRODID:-//Spriggly&#039;s Beescaping - ECPv6.3.5//NONSGML v1.0//EN
CALSCALE:GREGORIAN
METHOD:PUBLISH
X-WR-CALNAME:Spriggly&#039;s Beescaping
X-ORIGINAL-URL:https://sprigglys.com
X-WR-CALDESC:Events for Spriggly&#039;s Beescaping
REFRESH-INTERVAL;VALUE=DURATION:PT1H
X-Robots-Tag:noindex
X-PUBLISHED-TTL:PT1H
BEGIN:VTIMEZONE
TZID:UTC
BEGIN:STANDARD
TZOFFSETFROM:+0000
TZOFFSETTO:+0000
TZNAME:UTC
DTSTART:20240101T000000
END:STANDARD
END:VTIMEZONE
BEGIN:VEVENT
DTSTART;TZID=UTC:20240409T190000
DTEND;TZID=UTC:20240409T203000
DTSTAMP:20260422T044708
CREATED:20240402T193358Z
LAST-MODIFIED:20240402T195055Z
UID:2972-1712689200-1712694600@sprigglys.com
SUMMARY:Blue Ridge Naturalist Network Presentation | Native Bees and the Habitats They Require
DESCRIPTION:The Blue Ridge Naturalist Network is pleased to present a workshop by Spriggly’s Beescaping. From the largest to the smallest\, native bees are fascinating and extremely beneficial. Learn approaches you can take in your everyday gardening to make a huge difference to the bees and other beneficial wildlife around you. This program is free and open to the public in person or on Zoom. The link will be available at brnnetwork.org shortly before the event.
URL:https://sprigglys.com/event/blue-ridge-native-bees-sprigglys/
LOCATION:UNCA Reuter Center\, Reuter Center\, 300 Campus View Rd\, Asheville\, NC\, 28804
ATTACH;FMTTYPE=image/jpeg:https://sprigglys.com/wp-content/uploads/2024/04/green-sweat-bee-small.jpg
ORGANIZER;CN="Blue Ridge Naturalist Network":MAILTO:president@brnnetwork.org
END:VEVENT
END:VCALENDAR