BEGIN:VCALENDAR
VERSION:2.0
PRODID:-//Spriggly&#039;s Beescaping - ECPv6.3.5//NONSGML v1.0//EN
CALSCALE:GREGORIAN
METHOD:PUBLISH
X-ORIGINAL-URL:https://sprigglys.com
X-WR-CALDESC:Events for Spriggly&#039;s Beescaping
REFRESH-INTERVAL;VALUE=DURATION:PT1H
X-Robots-Tag:noindex
X-PUBLISHED-TTL:PT1H
BEGIN:VTIMEZONE
TZID:UTC
BEGIN:STANDARD
TZOFFSETFROM:+0000
TZOFFSETTO:+0000
TZNAME:UTC
DTSTART:20240101T000000
END:STANDARD
END:VTIMEZONE
BEGIN:VEVENT
DTSTART;TZID=UTC:20240408T180000
DTEND;TZID=UTC:20240408T193000
DTSTAMP:20260421T235916
CREATED:20240209T193052Z
LAST-MODIFIED:20240209T193758Z
UID:2936-1712599200-1712604600@sprigglys.com
SUMMARY:Certified Pollinator Advocate Program | All About Bees
DESCRIPTION:Course Details:\nHundreds of bee species are native to our Western North Carolina mountains. Pollen is their only source of protein\, that’s why they actively–not accidentally–collect it. No wonder bees are considered the best pollinators in the temperate world! This class explores their life cycles\, nesting habits and floral preferences.  \nAdditional Info: \n“All About Bees” on April 8 is part of the Certified Pollinator Advocate Program launched in January 2024 by the Botanical Gardens of Asheville and Bee City USA Asheville. The BGA and BCU-AVL will jointly offer this series of 12 monthly classes covering pollination ecology topics and leading to certification as a Pollinator Advocate. \nAll 12 classes will be offered in 2024\, and repeated in 2025 so individuals may complete the certification and become a pollinator advocate over 2 years. To become a “C.P.A.” individuals will complete 12 classes\, plus complete 2 volunteer opportunities with Bee City USA-Asheville. Learn more and register at ashevillebotanicalgardens.org/become-a-certified-pollinator-advocate/.
URL:https://sprigglys.com/event/certified-pollinator-advocate-program-all-about-bees/
LOCATION:Asheville Botanical Garden\, 151 W.T. Weaver Blvd\, Asheville\, NC\, 28804\, United States
ATTACH;FMTTYPE=image/png:https://sprigglys.com/wp-content/uploads/2024/02/1.png
END:VEVENT
END:VCALENDAR