BEGIN:VCALENDAR
VERSION:2.0
PRODID:-//Spriggly&#039;s Beescaping - ECPv6.3.5//NONSGML v1.0//EN
CALSCALE:GREGORIAN
METHOD:PUBLISH
X-ORIGINAL-URL:https://sprigglys.com
X-WR-CALDESC:Events for Spriggly&#039;s Beescaping
REFRESH-INTERVAL;VALUE=DURATION:PT1H
X-Robots-Tag:noindex
X-PUBLISHED-TTL:PT1H
BEGIN:VTIMEZONE
TZID:UTC
BEGIN:STANDARD
TZOFFSETFROM:+0000
TZOFFSETTO:+0000
TZNAME:UTC
DTSTART:20240101T000000
END:STANDARD
END:VTIMEZONE
BEGIN:VEVENT
DTSTART;TZID=UTC:20240330T120000
DTEND;TZID=UTC:20240330T170000
DTSTAMP:20260422T062115
CREATED:20240209T191347Z
LAST-MODIFIED:20240209T193933Z
UID:2929-1711800000-1711818000@sprigglys.com
SUMMARY:Gardening for Life Celebration 2024
DESCRIPTION:Event Details: \nThe GFL Celebration on March 30 from 12-5PM is a free community event celebrating ways we can all make a difference to preserve and protect biodiversity in the Carolina Foothills and beyond. Join us for a day of discovery\, of surprise and of lively community conversations. Enjoy speakers and exhibiting\, with a booth from Spriggly’s Beescaping!  \nAdditional Info:\nThis event will take place at the Polk County High School. Learn more at gardeningforlifeproject.org/gfl-celebration.
URL:https://sprigglys.com/event/gardening-for-life-celebration-2024/
LOCATION:Polk County High School\, 319 Hatley Dr\, Columbus\, NC\, 28722\, United States
ATTACH;FMTTYPE=image/jpeg:https://sprigglys.com/wp-content/uploads/2024/02/420482667_343375835233818_3650408442237569940_n-e1707506008898.jpeg
END:VEVENT
END:VCALENDAR