BEGIN:VCALENDAR
VERSION:2.0
PRODID:-//Spriggly&#039;s Beescaping - ECPv6.3.5//NONSGML v1.0//EN
CALSCALE:GREGORIAN
METHOD:PUBLISH
X-WR-CALNAME:Spriggly&#039;s Beescaping
X-ORIGINAL-URL:https://sprigglys.com
X-WR-CALDESC:Events for Spriggly&#039;s Beescaping
REFRESH-INTERVAL;VALUE=DURATION:PT1H
X-Robots-Tag:noindex
X-PUBLISHED-TTL:PT1H
BEGIN:VTIMEZONE
TZID:UTC
BEGIN:STANDARD
TZOFFSETFROM:+0000
TZOFFSETTO:+0000
TZNAME:UTC
DTSTART:20240101T000000
END:STANDARD
END:VTIMEZONE
BEGIN:VEVENT
DTSTART;TZID=UTC:20240323T110000
DTEND;TZID=UTC:20240323T150000
DTSTAMP:20260422T044226
CREATED:20240209T190145Z
LAST-MODIFIED:20240209T193850Z
UID:2926-1711191600-1711206000@sprigglys.com
SUMMARY:Spriggly's Exhibit Booth | Winding Stair Farm Birthday Celebration
DESCRIPTION:There will be live music\, food\, giveaways\, local experts\, a raffle and a plant sale! Spriggly’s will provide an exhibit booth and will be selling their various products and services. Spriggly’s will also provide a book reading of their children’s book\, Finding Home: A Story of a Mason Bee!
URL:https://sprigglys.com/event/sprigglys-exhibit-booth-winding-stair-farm-birthday-celebration/
LOCATION:Winding Stair Farm\, 57 Saunders Road\, Franklin\,\, NC\, 28734\, United States
ATTACH;FMTTYPE=image/jpeg:https://sprigglys.com/wp-content/uploads/2017/03/38901201_1382398598530583_3054689592566349824_o-e1557768135861.jpg
END:VEVENT
END:VCALENDAR