BEGIN:VCALENDAR
VERSION:2.0
PRODID:-//Spriggly&#039;s Beescaping - ECPv6.3.5//NONSGML v1.0//EN
CALSCALE:GREGORIAN
METHOD:PUBLISH
X-ORIGINAL-URL:https://sprigglys.com
X-WR-CALDESC:Events for Spriggly&#039;s Beescaping
REFRESH-INTERVAL;VALUE=DURATION:PT1H
X-Robots-Tag:noindex
X-PUBLISHED-TTL:PT1H
BEGIN:VTIMEZONE
TZID:UTC
BEGIN:STANDARD
TZOFFSETFROM:+0000
TZOFFSETTO:+0000
TZNAME:UTC
DTSTART:20240101T000000
END:STANDARD
END:VTIMEZONE
BEGIN:VEVENT
DTSTART;TZID=UTC:20240309T090000
DTEND;TZID=UTC:20240309T103000
DTSTAMP:20260422T014454
CREATED:20240207T213144Z
LAST-MODIFIED:20240209T194043Z
UID:2878-1709974800-1709980200@sprigglys.com
SUMMARY:Organic Grower's School | Planting for Pollinators Day One
DESCRIPTION:Please note: This event is part of the much larger Organic Grower’s School conference and registration is required. Details below:  \nCourse Details:\nNot all plants are created equal! Learn how to discern the best plants to support and attract your region’s widest variety of wildlife. We’ll review bloom shapes\, leaf chemicals\, planting tips\, and other best practices. Participants will also learn how native plants benefit the ecosystem and combat drainage issues and erosion. \nHave two chances to catch Spriggly’s course\, “Planting for Pollinators: Size\, Shape\, and Scope” on Saturday\, March 9 and again from 9-10:30AM on Sunday\, March 10\, each day from 9-10:30AM. \nAdditional Info\nThe Organic Grower’s School conference is March 8-10\, and options to register for the full event\, the weekend\, or a singular day are available. The cost varies depending upon registration type.  \nTo learn more\, please visit organicgrowersschool.org/spring-conference to learn more.
URL:https://sprigglys.com/event/organic-growers-school-planting-for-pollinators/
LOCATION:Mars Hill University\, 100 Athletic St.\, Mars Hill\, NC\, 28754\, United States
ATTACH;FMTTYPE=image/jpeg:https://sprigglys.com/wp-content/uploads/2024/02/Local-Native-Plants-e1707499530641.jpg
END:VEVENT
END:VCALENDAR